BEGIN:VCALENDAR
VERSION:2.0
PRODID:-//jEvents 2.0 for Joomla//EN
CALSCALE:GREGORIAN
METHOD:PUBLISH
BEGIN:VTIMEZONE
TZID:Europe/Berlin
BEGIN:STANDARD
DTSTART:20231029T020000
RDATE:20240331T030000
TZOFFSETFROM:+0200
TZOFFSETTO:+0100
TZNAME:Europe/Berlin CET
END:STANDARD
BEGIN:STANDARD
DTSTART:20241027T020000
RDATE:20250330T030000
TZOFFSETFROM:+0200
TZOFFSETTO:+0100
TZNAME:Europe/Berlin CET
END:STANDARD
BEGIN:STANDARD
DTSTART:20251026T020000
RDATE:20260329T030000
TZOFFSETFROM:+0200
TZOFFSETTO:+0100
TZNAME:Europe/Berlin CET
END:STANDARD
BEGIN:STANDARD
DTSTART:20261025T020000
RDATE:20270328T030000
TZOFFSETFROM:+0200
TZOFFSETTO:+0100
TZNAME:Europe/Berlin CET
END:STANDARD
BEGIN:STANDARD
DTSTART:20271031T020000
RDATE:20280326T030000
TZOFFSETFROM:+0200
TZOFFSETTO:+0100
TZNAME:Europe/Berlin CET
END:STANDARD
BEGIN:STANDARD
DTSTART:20281029T020000
RDATE:20290325T030000
TZOFFSETFROM:+0200
TZOFFSETTO:+0100
TZNAME:Europe/Berlin CET
END:STANDARD
BEGIN:STANDARD
DTSTART:20291028T020000
RDATE:20300331T030000
TZOFFSETFROM:+0200
TZOFFSETTO:+0100
TZNAME:Europe/Berlin CET
END:STANDARD
BEGIN:STANDARD
DTSTART:20301027T020000
RDATE:20310330T030000
TZOFFSETFROM:+0200
TZOFFSETTO:+0100
TZNAME:Europe/Berlin CET
END:STANDARD
BEGIN:STANDARD
DTSTART:20311026T020000
RDATE:20320328T030000
TZOFFSETFROM:+0200
TZOFFSETTO:+0100
TZNAME:Europe/Berlin CET
END:STANDARD
BEGIN:DAYLIGHT
DTSTART:20230424T150000
RDATE:20231029T020000
TZOFFSETFROM:+0100
TZOFFSETTO:+0200
TZNAME:Europe/Berlin CEST
END:DAYLIGHT
BEGIN:DAYLIGHT
DTSTART:20240331T030000
RDATE:20241027T020000
TZOFFSETFROM:+0100
TZOFFSETTO:+0200
TZNAME:Europe/Berlin CEST
END:DAYLIGHT
BEGIN:DAYLIGHT
DTSTART:20250330T030000
RDATE:20251026T020000
TZOFFSETFROM:+0100
TZOFFSETTO:+0200
TZNAME:Europe/Berlin CEST
END:DAYLIGHT
BEGIN:DAYLIGHT
DTSTART:20260329T030000
RDATE:20261025T020000
TZOFFSETFROM:+0100
TZOFFSETTO:+0200
TZNAME:Europe/Berlin CEST
END:DAYLIGHT
BEGIN:DAYLIGHT
DTSTART:20270328T030000
RDATE:20271031T020000
TZOFFSETFROM:+0100
TZOFFSETTO:+0200
TZNAME:Europe/Berlin CEST
END:DAYLIGHT
BEGIN:DAYLIGHT
DTSTART:20280326T030000
RDATE:20281029T020000
TZOFFSETFROM:+0100
TZOFFSETTO:+0200
TZNAME:Europe/Berlin CEST
END:DAYLIGHT
BEGIN:DAYLIGHT
DTSTART:20290325T030000
RDATE:20291028T020000
TZOFFSETFROM:+0100
TZOFFSETTO:+0200
TZNAME:Europe/Berlin CEST
END:DAYLIGHT
BEGIN:DAYLIGHT
DTSTART:20300331T030000
RDATE:20301027T020000
TZOFFSETFROM:+0100
TZOFFSETTO:+0200
TZNAME:Europe/Berlin CEST
END:DAYLIGHT
BEGIN:DAYLIGHT
DTSTART:20310330T030000
RDATE:20311026T020000
TZOFFSETFROM:+0100
TZOFFSETTO:+0200
TZNAME:Europe/Berlin CEST
END:DAYLIGHT
END:VTIMEZONE
BEGIN:VEVENT
UID:89ab561a92c6036f1268bf8efc608132
CATEGORIES:Veranstaltungen
CREATED:20240408T165625
SUMMARY:E-Bike-Fahrsicherheitstraining
LOCATION:Fußballparkplatz am SKG-Vereinsheim
DESCRIPTION:Ein Angebot für Radsport- und auch andere SKG-Mitglieder.\nDas Fahrtechnikt
 raining wird von unserem zertifizierten Fit-4-Pedelec-Instruktor Ulrich Bud
 dendiek durchgeführt.\nDer Praxisteil des Fahrsicherheitstrainings findet m
 it eigenen E-Bikes/Pedelecs auf dem großen Parkplatz des SKG-Vereinsheims s
 tatt.\nEine vorherige Anmeldung ist erforderlich. Die Teilnehmerzahl ist au
 f 10 begrenzt. Aktive Radsport-Mitglieder werden bevorzugt.\nWeitere Inform
 ationen und Anmeldung direkt hier (https://xoyondo.com/dp/zrp1cqiuh56vxwk) 
 (externer Link, öffnet neue Seite).\n
X-ALT-DESC;FMTTYPE=text/html:<p>Ein Angebot für Radsport- und auch andere SKG-Mitglieder.</p><p>Das Fahr
 techniktraining wird von unserem zertifizierten Fit-4-Pedelec-Instruktor Ul
 rich Buddendiek durchgeführt.<br />Der Praxisteil des Fahrsicherheitstraini
 ngs findet mit eigenen E-Bikes/Pedelecs auf dem großen Parkplatz des SKG-Ve
 reinsheims statt.</p><p>Eine vorherige Anmeldung ist erforderlich. Die Teil
 nehmerzahl ist auf 10 begrenzt. Aktive Radsport-Mitglieder werden bevorzugt
 .</p><p>Weitere Informationen und Anmeldung <a href="https://xoyondo.com/dp
 /zrp1cqiuh56vxwk" target="_blank" rel="noopener">direkt hier</a> (externer 
 Link, öffnet neue Seite).</p>
CONTACT:Gerhard Pogarell
DTSTAMP:20260423T001125
DTSTART;TZID=Europe/Berlin:20240424T150000
DTEND;TZID=Europe/Berlin:20240424T190000
SEQUENCE:0
TRANSP:OPAQUE
END:VEVENT
END:VCALENDAR